BEGIN:VCALENDAR
VERSION:2.0
PRODID:-//wp-events-plugin.com//7.2.3.1//EN
TZID:Europe/Paris
X-WR-TIMEZONE:Europe/Paris
BEGIN:VEVENT
UID:1673@cafeculturelcitoyen.org
DTSTART;TZID=Europe/Paris:20220330T200000
DTEND;TZID=Europe/Paris:20220330T213000
DTSTAMP:20220307T091306Z
URL:https://cafeculturelcitoyen.org/evenements/conference-sapiens-tu-pionc
 es/
SUMMARY:Conférence Sapiens\, tu pionces ?
DESCRIPTION:Franck Boval viendra présenter sous forme de conférence son l
 ivre Sapiens\, tu pionces ? un manuel pratique de Réveil… pour comprend
 re l’existence\, la matière et la conscience !\nLa complexité de la vi
 e expliquée de façon magistrale\, avec humour et pédagogie.\nUn livre d
 e vulgarisation original\, accessible et clair.\nA tous ceux qui veulent m
 ieux comprendre qui nous sommes\, perdus au milieu de ce grand Univers…
   Dans un langage clair (et clairvoyant)\, Franck Boval nous révèle à 
 nous-même\, nous explique de quoi nous sommes faits\, entre matière et c
 onscience\, sensible et psychisme\, tangible et spirituel… Et si nous é
 tions plus grands que nous le croyons ?
ATTACH;FMTTYPE=image/jpeg:https://cafeculturelcitoyen.org/wp-content/uploa
 ds/2022/01/Sans-titre87.png
END:VEVENT
BEGIN:VTIMEZONE
TZID:Europe/Paris
X-LIC-LOCATION:Europe/Paris
BEGIN:DAYLIGHT
DTSTART:20220327T030000
TZOFFSETFROM:+0100
TZOFFSETTO:+0200
TZNAME:CEST
END:DAYLIGHT
END:VTIMEZONE
END:VCALENDAR