BEGIN:VCALENDAR
VERSION:2.0
PRODID:-//wp-events-plugin.com//7.2.3.1//EN
TZID:Europe/Paris
X-WR-TIMEZONE:Europe/Paris
BEGIN:VEVENT
UID:1717@cafeculturelcitoyen.org
DTSTART;TZID=Europe/Paris:20220511T203000
DTEND;TZID=Europe/Paris:20220511T234500
DTSTAMP:20220425T092750Z
URL:https://cafeculturelcitoyen.org/evenements/conference-pint-of-science/
SUMMARY:Conférence Pint of Science
DESCRIPTION:Intelligence artificielle\, apprentissage machine\, cybersécur
 ité... Autant de mots qui évoquent une technologie complexe et futuriste
 ... Mais quels sont les concepts qui se cachent derrière ces termes\, que
 lles sont leurs interactions et enfin quelles prouesses nous permettent-il
 s d'accomplir ? Toutes les réponses à ces questions et à bien d'autres 
 lors de la soirée Pint of Science Aix-en-Provence. Deux intervenants issu
 s des ces domaines scientifiques vous présenterons dans un premiers temps
  les enjeux liés à l'intelligence artificielle et dans un second temps c
 eux de la cybersécurité.
ATTACH;FMTTYPE=image/jpeg:https://cafeculturelcitoyen.org/wp-content/uploa
 ds/2022/04/Sans-titre45.jpg
END:VEVENT
BEGIN:VTIMEZONE
TZID:Europe/Paris
X-LIC-LOCATION:Europe/Paris
BEGIN:DAYLIGHT
DTSTART:20220327T030000
TZOFFSETFROM:+0100
TZOFFSETTO:+0200
TZNAME:CEST
END:DAYLIGHT
END:VTIMEZONE
END:VCALENDAR