BEGIN:VCALENDAR
VERSION:2.0
PRODID:-//wp-events-plugin.com//7.2.3.1//EN
TZID:Europe/Paris
X-WR-TIMEZONE:Europe/Paris
BEGIN:VEVENT
UID:2009@cafeculturelcitoyen.org
DTSTART;TZID=Europe/Paris:20230127T193000
DTEND;TZID=Europe/Paris:20230127T210000
DTSTAMP:20230104T092108Z
URL:https://cafeculturelcitoyen.org/evenements/conference-organise-par-la-
 conf-paysanne-et-le-grec-sud-le-changement-climatique-dans-notre-region/
SUMMARY:Conférence organisée par la conf' paysanne et le GREC-SUD : le ch
 angement climatique dans notre région
DESCRIPTION:La Confédération paysanne des Bouches du Rhône propose\, à 
 la suite de son AG\, une  conférence publique à 19h heures par le GREC-
 SUD\, le GIEC régional\, sur le changement climatique dans notre région 
 et département.
ATTACH;FMTTYPE=image/jpeg:https://cafeculturelcitoyen.org/wp-content/uploa
 ds/2023/01/20180328193928hWBW.jpg
END:VEVENT
BEGIN:VTIMEZONE
TZID:Europe/Paris
X-LIC-LOCATION:Europe/Paris
BEGIN:STANDARD
DTSTART:20221030T020000
TZOFFSETFROM:+0200
TZOFFSETTO:+0100
TZNAME:CET
END:STANDARD
END:VTIMEZONE
END:VCALENDAR