BEGIN:VCALENDAR
VERSION:2.0
PRODID:-//wp-events-plugin.com//7.2.3.1//EN
TZID:Europe/Paris
X-WR-TIMEZONE:Europe/Paris
BEGIN:VEVENT
UID:2446@cafeculturelcitoyen.org
DTSTART;TZID=Europe/Paris:20231202T150000
DTEND;TZID=Europe/Paris:20231202T163000
DTSTAMP:20231102T140919Z
URL:https://cafeculturelcitoyen.org/evenements/conference-de-jean-louis-ro
 bert-sur-la-commune-de-paris/
SUMMARY:Conférence de Jean-Louis Robert sur la Commune de Paris
DESCRIPTION:De longue date\, la Commune de Paris a fait l’objet de travau
 x d’importance. Et le cent-cinquantième anniversaire de l’événement
  a apporté sa belle brassée de recherches et ouvrages nouveaux. Le livre
  de Jean-Louis Robert\, à travers une recherche d’une ampleur exception
 nelle\, apporte à l’histoire de la Commune une somme de connaissances 
 érudites et inédites\, issues d’un travail de quinze années\, et prop
 ose une lecture profondément renouvelée de l’événement.
ATTACH;FMTTYPE=image/jpeg:https://cafeculturelcitoyen.org/wp-content/uploa
 ds/2023/10/062_nouvelle-histoire-de-la-commune-de-paris_1_p1_760_2x.jpg
END:VEVENT
BEGIN:VTIMEZONE
TZID:Europe/Paris
X-LIC-LOCATION:Europe/Paris
BEGIN:STANDARD
DTSTART:20231029T020000
TZOFFSETFROM:+0200
TZOFFSETTO:+0100
TZNAME:CET
END:STANDARD
END:VTIMEZONE
END:VCALENDAR