BEGIN:VCALENDAR
VERSION:2.0
PRODID:-//wp-events-plugin.com//7.2.3.1//EN
TZID:Europe/Paris
X-WR-TIMEZONE:Europe/Paris
BEGIN:VEVENT
UID:1840@cafeculturelcitoyen.org
DTSTART;TZID=Europe/Paris:20220928T203000
DTEND;TZID=Europe/Paris:20220928T220000
DTSTAMP:20220903T093034Z
URL:https://cafeculturelcitoyen.org/evenements/concert-zeynep-dilara-aslan
 -philippe-gillet/
SUMMARY:Concert - Zeynep Dilara Aslan & Philippe Gillet
DESCRIPTION:En duo\, la chanteuse turque Zeynep Dilara Aslan et le multi-in
 strumentiste Philippe Gillet jouent les Ilahis\, les chants soufis d'Asie 
 mineure.\n\nTraditionnellement chantés au sein des familles ou dans les r
 assemblements des différentes confréries religieuses présentent en Anat
 olie\, ils abordent des thèmes aussi variés que l'amour de Dieu\, de l'h
 umanité ou de la vie.\n\nAu fur et à mesure des rencontres\, d’autres 
 pièces\, issues des traditions Arméniennes\, Assyriennes ou encore Alév
 is sont venues enrichir leur répertoire avec toujours en filigrane la re
 cherche du Muhabbet\, le dialogue du coeur.\n\n​​Zeynep Dilara Aslan: 
 chant\, percussions\nPhilippe Gillet: luths orientaux
ATTACH;FMTTYPE=image/jpeg:https://cafeculturelcitoyen.org/wp-content/uploa
 ds/2022/09/Capture-decran-2022-09-03-112848.jpg
END:VEVENT
BEGIN:VTIMEZONE
TZID:Europe/Paris
X-LIC-LOCATION:Europe/Paris
BEGIN:DAYLIGHT
DTSTART:20220327T030000
TZOFFSETFROM:+0100
TZOFFSETTO:+0200
TZNAME:CEST
END:DAYLIGHT
END:VTIMEZONE
END:VCALENDAR