BEGIN:VCALENDAR
VERSION:2.0
PRODID:-//wp-events-plugin.com//7.2.3.1//EN
TZID:Europe/Paris
X-WR-TIMEZONE:Europe/Paris
BEGIN:VEVENT
UID:1699@cafeculturelcitoyen.org
DTSTART;TZID=Europe/Paris:20220331T200000
DTEND;TZID=Europe/Paris:20220331T210000
DTSTAMP:20220317T173308Z
URL:https://cafeculturelcitoyen.org/evenements/concert-voxattitude/
SUMMARY:Concert VOX’ATTITUDE
DESCRIPTION:Vox'Attitude vous invite à un périple harmonique à travers l
 es lieux et les époques. Quintet  vocal de "close harmony" fondé en 201
 8\, il se compose de cinq chanteurs venant d'horizons et de formations dif
 férentes. Leurs personnalités atypiques se mêlent au service d'une joye
 use performance vocale\, invitant au rêve et au voyage\, de Chet Baker à
  Tom Jobim en passant par les grands noms de la chanson française.
ATTACH;FMTTYPE=image/jpeg:https://cafeculturelcitoyen.org/wp-content/uploa
 ds/2022/03/Affiche2.jpeg
END:VEVENT
BEGIN:VTIMEZONE
TZID:Europe/Paris
X-LIC-LOCATION:Europe/Paris
BEGIN:DAYLIGHT
DTSTART:20220327T030000
TZOFFSETFROM:+0100
TZOFFSETTO:+0200
TZNAME:CEST
END:DAYLIGHT
END:VTIMEZONE
END:VCALENDAR