BEGIN:VCALENDAR
VERSION:2.0
PRODID:-//wp-events-plugin.com//7.2.3.1//EN
TZID:Europe/Paris
X-WR-TIMEZONE:Europe/Paris
BEGIN:VEVENT
UID:1793@cafeculturelcitoyen.org
DTSTART;TZID=Europe/Paris:20220716T210000
DTEND;TZID=Europe/Paris:20220716T223000
DTSTAMP:20220716T081757Z
URL:https://cafeculturelcitoyen.org/evenements/concert-vane-butera/
SUMMARY:Concert Vane Butera
DESCRIPTION:VANE BUTERA\n\nActrice\, chanteuse et compositrice argentine. V
 ane tourne avec ses chansons et sa guitare depuis des années pour toute l
 ’Argentine\, le Mexique\, New York et l’Uruguay. Elle a joué en premi
 ère partie de Joaquin Sabina dans le Estadio Polideportivo de Mar del Pla
 ta (Argentine).\n\nAvec 3 millions d’écoutes sur Spotify en 2021\, elle
  a lancé “CHANGÜÍ”\, son troisième album studio\, qui a été enre
 gistré en direct et diffusé via streaming pour tout le monde dans un év
 énement inédit au cours de la quarantaine de 2020. Celui-ci s’ajoute 
 à ses premiers albums “PARTIDA” et “ADONDE NO ME LLAMAN”\, et aus
 si “ENTRETANTO” (EP) et “SESIONES VIVAS” (EP).\nSans étiquettes\,
  Vane mêle différents styles musicaux\, avec l'humour\, l'ironie et des 
 paroles simples pour dire ce qui paraît plus complexe. Elle a su récolte
 r un public fidèle et chaque fois plus grand\, qui se reconnaît dans ses
  mots qui parlent de ce qui nous traverse à tous\, et avec ce qui est imp
 ossible ne pas se sentir reflété.\nInstagram @vane_butera\nSpotify Vane 
 Butera
ATTACH;FMTTYPE=image/jpeg:https://cafeculturelcitoyen.org/wp-content/uploa
 ds/2022/07/FOTO-5-3465240639-scaled.jpeg
END:VEVENT
BEGIN:VTIMEZONE
TZID:Europe/Paris
X-LIC-LOCATION:Europe/Paris
BEGIN:DAYLIGHT
DTSTART:20220327T030000
TZOFFSETFROM:+0100
TZOFFSETTO:+0200
TZNAME:CEST
END:DAYLIGHT
END:VTIMEZONE
END:VCALENDAR