BEGIN:VCALENDAR
VERSION:2.0
PRODID:-//wp-events-plugin.com//7.2.3.1//EN
TZID:Europe/Paris
X-WR-TIMEZONE:Europe/Paris
BEGIN:VEVENT
UID:1689@cafeculturelcitoyen.org
DTSTART;TZID=Europe/Paris:20220319T203000
DTEND;TZID=Europe/Paris:20220319T224500
DTSTAMP:20220225T145946Z
URL:https://cafeculturelcitoyen.org/evenements/concert-trio-tinfa/
SUMMARY:Concert Trio Tin'fa
DESCRIPTION:Chevauchant allègrement la Méditerranée\, le Trio Tinfa tiss
 e ses délicates passerelles sonores entre les rives avec des textes poét
 iques en arabe et en français\, où s’entrelacent les rythmiques de der
 bouka les lignes mélodiques d’un accordéon chromatique traditionnel et
  celles d’un alto virtuose. ...\n\n\nhttps://www.youtube.com/watch?v=npL
 0T-lEsSg\n\n&nbsp\;
ATTACH;FMTTYPE=image/jpeg:https://cafeculturelcitoyen.org/wp-content/uploa
 ds/2022/02/Sans-titre73.jpg
END:VEVENT
BEGIN:VTIMEZONE
TZID:Europe/Paris
X-LIC-LOCATION:Europe/Paris
BEGIN:STANDARD
DTSTART:20211031T020000
TZOFFSETFROM:+0200
TZOFFSETTO:+0100
TZNAME:CET
END:STANDARD
END:VTIMEZONE
END:VCALENDAR