BEGIN:VCALENDAR
VERSION:2.0
PRODID:-//wp-events-plugin.com//7.2.3.1//EN
TZID:Europe/Paris
X-WR-TIMEZONE:Europe/Paris
BEGIN:VEVENT
UID:1714@cafeculturelcitoyen.org
DTSTART;TZID=Europe/Paris:20220430T203000
DTEND;TZID=Europe/Paris:20220430T213000
DTSTAMP:20220420T075136Z
URL:https://cafeculturelcitoyen.org/evenements/concert-the-wolves-en-acous
 tique/
SUMMARY:Concert : The Wolves en acoustique
DESCRIPTION:\n\n\n\n\n\nThe Wolves est un groupe aux diverses influences Ro
 ck et Pop\, ils ont une identité musicale bien à eux\, les chemins de vi
 e de chacun d'entre eux\, croisés dans des oeuvres personnelles\, pleines
  d'émotions et d'une réelle énergie\, parfois animale (s'appelleraient-
 ils loups\, sinon?:))\, vont vous entraîner\, vous faire fredonner\, vous
  faire sauter en l'air!!\n\n\nRestez connectés car d'ici peu ça va bouge
 r chez les Wolves\, et ils n'attendent ni minuit ni la Pleine lune.\n\nThe
  Wolves est un groupe composé\n*d'Amandine "Queen Wolf" chanteuse lead et
  bassiste majestueuse et louve bienveillante\, une patte de fer dans un ul
 tra-gant de velours\n*de JB "Wolfgang"\, Guitar lead et choeurs\, le lycan
  énergique qui compose et écrit plus vite que son ombre\n*et d'Olivier "
 Wolverine"\, le batteur lupin\, imperturbable colonne vertébrale métrono
 mique\n\n\n\n\n\n\n
ATTACH;FMTTYPE=image/jpeg:https://cafeculturelcitoyen.org/wp-content/uploa
 ds/2022/04/Sans-titre40.jpg
END:VEVENT
BEGIN:VTIMEZONE
TZID:Europe/Paris
X-LIC-LOCATION:Europe/Paris
BEGIN:DAYLIGHT
DTSTART:20220327T030000
TZOFFSETFROM:+0100
TZOFFSETTO:+0200
TZNAME:CEST
END:DAYLIGHT
END:VTIMEZONE
END:VCALENDAR