BEGIN:VCALENDAR
VERSION:2.0
PRODID:-//wp-events-plugin.com//7.2.3.1//EN
TZID:Europe/Paris
X-WR-TIMEZONE:Europe/Paris
BEGIN:VEVENT
UID:2567@cafeculturelcitoyen.org
DTSTART;TZID=Europe/Paris:20240124T200000
DTEND;TZID=Europe/Paris:20240124T220000
DTSTAMP:20231109T141038Z
URL:https://cafeculturelcitoyen.org/evenements/concert-the-flat-frogs/
SUMMARY:Concert : The Flat Frogs
DESCRIPTION:The Flat Frogs est un groupe acoustique qui revisite à sa mani
 ère les vieux blues et ragtime du siècle dernier jusqu'à nos jours en p
 assant par le folk et la country des sixties/seventies. \n\nUn son " roots
  " mais un jeu élaboré qui accompagne la chanteuse lead américaine dont
  ces chansons font partie de ses racines musicales ainsi que ses propres c
 ompositions qui complètent cette tradition musicale.\n\n Flora / voix \nD
 idier / Guitare acoustique et voix \nDavid / Lapsteel \nYann / Contrebasse
ATTACH;FMTTYPE=image/jpeg:https://cafeculturelcitoyen.org/wp-content/uploa
 ds/2023/11/IMG-20230628-WA0001-e1699537042145.jpg
END:VEVENT
BEGIN:VTIMEZONE
TZID:Europe/Paris
X-LIC-LOCATION:Europe/Paris
BEGIN:STANDARD
DTSTART:20231029T020000
TZOFFSETFROM:+0200
TZOFFSETTO:+0100
TZNAME:CET
END:STANDARD
END:VTIMEZONE
END:VCALENDAR