BEGIN:VCALENDAR
VERSION:2.0
PRODID:-//wp-events-plugin.com//7.2.3.1//EN
TZID:Europe/Paris
X-WR-TIMEZONE:Europe/Paris
BEGIN:VEVENT
UID:1799@cafeculturelcitoyen.org
DTSTART;TZID=Europe/Paris:20220721T203000
DTEND;TZID=Europe/Paris:20220721T220000
DTSTAMP:20220715T075732Z
URL:https://cafeculturelcitoyen.org/evenements/concert-tattiana-angel/
SUMMARY:Concert Tattiana Angel\, Andrea Mejia
DESCRIPTION:Un hommage spécial aux femmes chanteuses de l'Amérique Latine
 \, qui avec leur voix ont raconté l'histoire de leurs pays et leurs propr
 es luttes.\n\nTattiana et Andrea\, deux colombiennes installées dans le s
 ud de la France\, nous feront voyager et rendre hommage\, par leurs voix e
 t leurs instruments\, à la mémoire musicale de Mercedes Sosa (Argentina)
 \, Violeta Parra (Chile)\, Chabuca Granda (Pérou)\, Celia Cruz (Cuba)\, e
 ntre autres. Ce spectacle\, plein d'émotions et d'histoire\, est aussi un
  hommage au rôle de la femme dans le monde de la musique.\n
ATTACH;FMTTYPE=image/jpeg:https://cafeculturelcitoyen.org/wp-content/uploa
 ds/2022/07/Capture-decran-2022-07-15-095326.png
END:VEVENT
BEGIN:VTIMEZONE
TZID:Europe/Paris
X-LIC-LOCATION:Europe/Paris
BEGIN:DAYLIGHT
DTSTART:20220327T030000
TZOFFSETFROM:+0100
TZOFFSETTO:+0200
TZNAME:CEST
END:DAYLIGHT
END:VTIMEZONE
END:VCALENDAR