BEGIN:VCALENDAR
VERSION:2.0
PRODID:-//wp-events-plugin.com//7.2.3.1//EN
TZID:Europe/Paris
X-WR-TIMEZONE:Europe/Paris
BEGIN:VEVENT
UID:1800@cafeculturelcitoyen.org
DTSTART;TZID=Europe/Paris:20220723T203000
DTEND;TZID=Europe/Paris:20220723T220000
DTSTAMP:20220715T080943Z
URL:https://cafeculturelcitoyen.org/evenements/concert-t-marie-and-bayou-j
 uju/
SUMMARY:Concert - T Marie and Bayou Juju
DESCRIPTION:T Marie and Bayou Juju\, ce sont un peu les cousins d'Amérique
  (celle de la Louisiane\, des Cajuns et du ...Bayou\, comme leur nom l'ind
 ique). Avec autant de compos originales que de traditionnelles\, ils nous 
 rassemblent en ami-es\, autour du feu de camp\, sous le porche des maisons
  du Sud\, sur les digues qui tentent de contenir le puissant Mississippi -
  objets de bien des chansons du répertoire Blues et cajun. Le son\, c'est
  celui de la rencontre des musiques Creole Swamp Pop\, Cajun\, Country\, B
 lues\, New Orleans. \n\nNous les accueillerons un peu comme des membres de
  la famille : Soirée exceptionnelle en perspective !\n
ATTACH;FMTTYPE=image/jpeg:https://cafeculturelcitoyen.org/wp-content/uploa
 ds/2022/07/Capture-decran-2022-07-15-100914.png
END:VEVENT
BEGIN:VTIMEZONE
TZID:Europe/Paris
X-LIC-LOCATION:Europe/Paris
BEGIN:DAYLIGHT
DTSTART:20220327T030000
TZOFFSETFROM:+0100
TZOFFSETTO:+0200
TZNAME:CEST
END:DAYLIGHT
END:VTIMEZONE
END:VCALENDAR