BEGIN:VCALENDAR
VERSION:2.0
PRODID:-//wp-events-plugin.com//7.2.3.1//EN
TZID:Europe/Paris
X-WR-TIMEZONE:Europe/Paris
BEGIN:VEVENT
UID:2363@cafeculturelcitoyen.org
DTSTART;TZID=Europe/Paris:20231118T210000
DTEND;TZID=Europe/Paris:20231118T223000
DTSTAMP:20231009T070815Z
URL:https://cafeculturelcitoyen.org/evenements/concert-smoothy-delisse/
SUMMARY:Les samedis du 3C- Smoothy Délisse
DESCRIPTION:Douceur\, good vibes\, pétillance.\n\n\n\n\nUne bulle de vacan
 ces.\nNos reprises smoothy\, à fleur de tempo\, flirtent avec la bossa et
  la chanson française\, effleurent les rivages musicaux d’îles et cont
 inents enchantés\, et vous invitent à un voyage chaloupé\, léger et co
 loré.\nUn mix\, une texture\, des parfums enjôleurs\, peut-être\, une s
 urprise acidulée...\n\n\n\n
ATTACH;FMTTYPE=image/jpeg:https://cafeculturelcitoyen.org/wp-content/uploa
 ds/2023/09/20230911_102940.jpg
END:VEVENT
BEGIN:VTIMEZONE
TZID:Europe/Paris
X-LIC-LOCATION:Europe/Paris
BEGIN:STANDARD
DTSTART:20231029T020000
TZOFFSETFROM:+0200
TZOFFSETTO:+0100
TZNAME:CET
END:STANDARD
END:VTIMEZONE
END:VCALENDAR