BEGIN:VCALENDAR
VERSION:2.0
PRODID:-//wp-events-plugin.com//7.2.3.1//EN
TZID:Europe/Paris
X-WR-TIMEZONE:Europe/Paris
BEGIN:VEVENT
UID:1761@cafeculturelcitoyen.org
DTSTART;TZID=Europe/Paris:20220618T210000
DTEND;TZID=Europe/Paris:20220618T230000
DTSTAMP:20220607T101604Z
URL:https://cafeculturelcitoyen.org/evenements/concert-simon-widdowson/
SUMMARY:Concert Simon Widdowson
DESCRIPTION:Simon Widdowson...\n\nGrandit à Leeds - Angleterre\, saute dan
 s un avion pour Minneapolis - Etats-unis\, en 1986\, atterrit en pleine tr
 adition folk et rock ... pour ne plus jamais la quitter.\n\nPendant une vi
 ngtaine d'années\, il sillonnera les US\, perfectionnant son art du songw
 riting au contact des plus grands Bluesmen et rockers étasuniens - RL Bur
 nside\, Clarence "Gatemouth" Brown\, Tom Paxton\, Leo Kottke\, Spin Doctor
 s\, Crashtest Dummies ... Il se produit dans 250 concerts par an pendant c
 ette période\, monte un studio d'enregistrement\, produit ses disques\, r
 eprend le chemin de Europe pour se fixer en Irlande. Repart à nouveau sur
  les routes...\n\nAujourd'hui\, les plus grands le reconnaissent comme un 
 chansonnier d'une grande finesse\, dont la bougeotte et l'expérience pers
 onnelle forment la base du répertoire - dans la grande authenticité de l
 a tradition du musicien itinérant.\n\n&nbsp\;
ATTACH;FMTTYPE=image/jpeg:https://cafeculturelcitoyen.org/wp-content/uploa
 ds/2022/06/Capture-decran-2022-06-07-121412.jpg
END:VEVENT
BEGIN:VTIMEZONE
TZID:Europe/Paris
X-LIC-LOCATION:Europe/Paris
BEGIN:DAYLIGHT
DTSTART:20220327T030000
TZOFFSETFROM:+0100
TZOFFSETTO:+0200
TZNAME:CEST
END:DAYLIGHT
END:VTIMEZONE
END:VCALENDAR