BEGIN:VCALENDAR
VERSION:2.0
PRODID:-//wp-events-plugin.com//7.2.3.1//EN
TZID:Europe/Paris
X-WR-TIMEZONE:Europe/Paris
BEGIN:VEVENT
UID:1788@cafeculturelcitoyen.org
DTSTART;TZID=Europe/Paris:20220714T210000
DTEND;TZID=Europe/Paris:20220714T233000
DTSTAMP:20220701T154400Z
URL:https://cafeculturelcitoyen.org/evenements/concert-sebka-2/
SUMMARY:Concert - Sebka
DESCRIPTION:Avec son univers décalé\, Sebka décoiffe la chanson françai
 se en douceur. Parolier autant que mélodiste\, il vous emmène en voyage 
 dans sa personnalité complexe. Sebka parvient à se placer tout autant da
 ns la peau des femmes que dans celle des hommes « Je suis un peu des deux
  »\, annonce-t-il avec sa gueule et son allure de dandy désinvolte.La mu
 sique est pour lui autant une pacotille que ce que l’on peut faire de pl
 us sérieux\, de plus grave. Il revisite la chanson francophone avec des t
 hèmes très actuels : l’amour dans tous ses états\, le genre\, la soli
 tude\, l’écologie.On pense à Brassens quand il s’accompagne à la gu
 itare\, mais on peut penser aussi à Bashung\, à Gainsbourg\, ou à Brel.
 ...
ATTACH;FMTTYPE=image/jpeg:https://cafeculturelcitoyen.org/wp-content/uploa
 ds/2022/07/2.png
END:VEVENT
BEGIN:VTIMEZONE
TZID:Europe/Paris
X-LIC-LOCATION:Europe/Paris
BEGIN:DAYLIGHT
DTSTART:20220327T030000
TZOFFSETFROM:+0100
TZOFFSETTO:+0200
TZNAME:CEST
END:DAYLIGHT
END:VTIMEZONE
END:VCALENDAR