BEGIN:VCALENDAR
VERSION:2.0
PRODID:-//wp-events-plugin.com//7.2.3.1//EN
TZID:Europe/Paris
X-WR-TIMEZONE:Europe/Paris
BEGIN:VEVENT
UID:1780@cafeculturelcitoyen.org
DTSTART;TZID=Europe/Paris:20220709T210000
DTEND;TZID=Europe/Paris:20220709T230000
DTSTAMP:20220621T092731Z
URL:https://cafeculturelcitoyen.org/evenements/concert-sarclo/
SUMMARY:Concert - Sarclo
DESCRIPTION:C'EST DE LA CHANSON FRANÇAISE DE QUALITÉ SUISSE !\n\n\nOn par
 tira des chansons de son dernier opus : « J’ai jamais été aussi vieux
  »\, il repart en arrière pour vous faire visiter ses disques des année
 s passées :\n« Gueuler partout comme un Putois »\, « Sarclo sings Dyla
 n in French »\, « À tombeau ouvert »\, « L’Amour est un commerce\, 
 mais la décharge est municipale »\, « On leur doit des Enfants si doux 
 »\, « L’Amour de l’amour et la chair à saucisse »\, « L’Amour\,
  comment procéder »\, « Les Mots\, c’est beau »\, « Les Pulls de ma
 \npoule » et bien sûr « Les plus grands Succès de Sarcloret ».\n"... 
 allez voir ce gars-là !\nJe l’ai vu hier et ça m’a foutu les poils. 
 Son Dylan est comme je l’aime.  Cru\, âpre\, drôle\, cynique\, roots\
 , poétique\, acide\, rugueux\, surréaliste\, bouleversant… Un diamant 
 pur\, pas poli. Et les guitares sonnent comme si elles venaient du fond de
 s âges…"\nFrédéric Bobin\n​
ATTACH;FMTTYPE=image/jpeg:https://cafeculturelcitoyen.org/wp-content/uploa
 ds/2022/06/2-4.png
END:VEVENT
BEGIN:VTIMEZONE
TZID:Europe/Paris
X-LIC-LOCATION:Europe/Paris
BEGIN:DAYLIGHT
DTSTART:20220327T030000
TZOFFSETFROM:+0100
TZOFFSETTO:+0200
TZNAME:CEST
END:DAYLIGHT
END:VTIMEZONE
END:VCALENDAR