BEGIN:VCALENDAR
VERSION:2.0
PRODID:-//wp-events-plugin.com//7.2.3.1//EN
TZID:Europe/Paris
X-WR-TIMEZONE:Europe/Paris
BEGIN:VEVENT
UID:4333@cafeculturelcitoyen.org
DTSTART;TZID=Europe/Paris:20260314T203000
DTEND;TZID=Europe/Paris:20260314T220000
DTSTAMP:20260301T075356Z
URL:https://cafeculturelcitoyen.org/evenements/concert-samar/
SUMMARY:Concert "SAMAR"
DESCRIPTION:Samar se produira pour la toute première fois sur scène\n\nEl
 le est une jeune artiste de 15 ans\, lycéenne et passionnée de musique. 
 Elle grandit dans un univers artistique auprès de sa maman\, elle-même c
 hanteuse\, et développe très tôt le goût de la scène et du partage.\n
 \nElle commence la guitare à 8 ans au conservatoire\, puis apprend le pia
 no en autodidacte\, guidée par sa curiosité et sa sensibilité musicale.
  Samar chante depuis toute petite et nourrit son univers artistique à tra
 vers la musique\, la danse et le cinéma.\n\nInfluencée par des artistes 
 telles que Ariana Grande\, Billie Eilish\, Olivia Rodrigo\, Amy Winehouse.
 .. elle développe un style à la fois sensible\, moderne et authentique.
ATTACH;FMTTYPE=image/jpeg:https://cafeculturelcitoyen.org/wp-content/uploa
 ds/2026/03/1000078418.jpg
END:VEVENT
BEGIN:VTIMEZONE
TZID:Europe/Paris
X-LIC-LOCATION:Europe/Paris
BEGIN:STANDARD
DTSTART:20251026T020000
TZOFFSETFROM:+0200
TZOFFSETTO:+0100
TZNAME:CET
END:STANDARD
END:VTIMEZONE
END:VCALENDAR