BEGIN:VCALENDAR
VERSION:2.0
PRODID:-//wp-events-plugin.com//7.2.3.1//EN
TZID:Europe/Paris
X-WR-TIMEZONE:Europe/Paris
BEGIN:VEVENT
UID:2435@cafeculturelcitoyen.org
DTSTART;TZID=Europe/Paris:20231117T210000
DTEND;TZID=Europe/Paris:20231117T230000
DTSTAMP:20231013T124811Z
URL:https://cafeculturelcitoyen.org/evenements/concert-rocky-roads-9/
SUMMARY:Concert - Rocky Roads
DESCRIPTION:Renouant avec la musique des Pubs et de Honkytonk (les bouges e
 t saloons mal famés étasuniens) le Groupe Rocky roads invite à taper du
  pied et bouger son corps sur les roots de la musique irlandaise et améri
 caine\, et plus si affinités... Impossible de ne pas danser !\n
ATTACH;FMTTYPE=image/jpeg:https://cafeculturelcitoyen.org/wp-content/uploa
 ds/2022/06/Capture-decran-2022-06-07-112304.jpg
END:VEVENT
BEGIN:VTIMEZONE
TZID:Europe/Paris
X-LIC-LOCATION:Europe/Paris
BEGIN:STANDARD
DTSTART:20231029T020000
TZOFFSETFROM:+0200
TZOFFSETTO:+0100
TZNAME:CET
END:STANDARD
END:VTIMEZONE
END:VCALENDAR