BEGIN:VCALENDAR
VERSION:2.0
PRODID:-//wp-events-plugin.com//7.2.3.1//EN
TZID:Europe/Paris
X-WR-TIMEZONE:Europe/Paris
BEGIN:VEVENT
UID:1997@cafeculturelcitoyen.org
DTSTART;TZID=Europe/Paris:20230618T203000
DTEND;TZID=Europe/Paris:20230618T223000
DTSTAMP:20230602T100012Z
URL:https://cafeculturelcitoyen.org/evenements/concert-rocky-roads-8/
SUMMARY:10 ans du 3C - Concert de clôture avec les Rocky Roads !
DESCRIPTION:Renouant avec la musique des Pubs et de Honkytonk (les bouges e
 t saloons mal famés étasuniens) le Groupe Rocky roads invite à taper du
  pied et bouger son corps sur les roots de la musique irlandaise et améri
 caine\, et plus si affinités... Impossible de ne pas danser !\n
ATTACH;FMTTYPE=image/jpeg:https://cafeculturelcitoyen.org/wp-content/uploa
 ds/2023/06/Affiche_Rocky_roads-2.png
END:VEVENT
BEGIN:VTIMEZONE
TZID:Europe/Paris
X-LIC-LOCATION:Europe/Paris
BEGIN:DAYLIGHT
DTSTART:20230326T030000
TZOFFSETFROM:+0100
TZOFFSETTO:+0200
TZNAME:CEST
END:DAYLIGHT
END:VTIMEZONE
END:VCALENDAR