BEGIN:VCALENDAR
VERSION:2.0
PRODID:-//wp-events-plugin.com//7.2.3.1//EN
TZID:Europe/Paris
X-WR-TIMEZONE:Europe/Paris
BEGIN:VEVENT
UID:2141@cafeculturelcitoyen.org
DTSTART;TZID=Europe/Paris:20230324T190000
DTEND;TZID=Europe/Paris:20230324T220000
DTSTAMP:20230228T091457Z
URL:https://cafeculturelcitoyen.org/evenements/concert-rock-the-true-ones/
SUMMARY:Concert Rock - Roger Godfrey\, The True Ones et Rocky Roads
DESCRIPTION:Grande soirée rock !\n\nLes True ones\, groupe bien connu des 
 aixois-es qui fait la joie de toutes les fêtes de la musique\, rejoint pa
 r les Rocky Roads !\n\nPremière partie : 19h00 à 20h Roger Godfrey du gr
 oupe les True ones et une présentation musicale de son album Never too la
 te. Ensuite de 20h30à 22h il sera rejoint par le True Ones et les Rocky r
 oads pour un partage de la scène. Ambiance Rock et Folk garantie !\n\n&nb
 sp\;\n\n&nbsp\;
ATTACH;FMTTYPE=image/jpeg:https://cafeculturelcitoyen.org/wp-content/uploa
 ds/2023/02/Roger-Godfrey-des-True-Ones.jpg
END:VEVENT
BEGIN:VTIMEZONE
TZID:Europe/Paris
X-LIC-LOCATION:Europe/Paris
BEGIN:STANDARD
DTSTART:20221030T020000
TZOFFSETFROM:+0200
TZOFFSETTO:+0100
TZNAME:CET
END:STANDARD
END:VTIMEZONE
END:VCALENDAR