BEGIN:VCALENDAR
VERSION:2.0
PRODID:-//wp-events-plugin.com//7.2.3.1//EN
TZID:Europe/Paris
X-WR-TIMEZONE:Europe/Paris
BEGIN:VEVENT
UID:1923@cafeculturelcitoyen.org
DTSTART;TZID=Europe/Paris:20221028T203000
DTEND;TZID=Europe/Paris:20221028T220000
DTSTAMP:20221006T140034Z
URL:https://cafeculturelcitoyen.org/evenements/concert-rap-osiris/
SUMMARY:Concert Rap - Osiris
DESCRIPTION:Ex membre du Gang de Zouaves\, avec lesquels il a œuvré duran
 t 5 belles années. Osiris avec ses comparses avait posé ses voiles en pr
 emière partie notamment de Dope DOD (New Morning) et des Svinkels (La Cle
 f).\nC'est avec eux qu'il a étoffé son goût pour la scène.\nSes textes
  sont francs\, crûs et poétiques.\nEmbarquons dans la caravelle !
ATTACH;FMTTYPE=image/jpeg:https://cafeculturelcitoyen.org/wp-content/uploa
 ds/2022/10/Capture-decran-2022-10-05-172655.png
END:VEVENT
BEGIN:VTIMEZONE
TZID:Europe/Paris
X-LIC-LOCATION:Europe/Paris
BEGIN:DAYLIGHT
DTSTART:20220327T030000
TZOFFSETFROM:+0100
TZOFFSETTO:+0200
TZNAME:CEST
END:DAYLIGHT
END:VTIMEZONE
END:VCALENDAR