BEGIN:VCALENDAR
VERSION:2.0
PRODID:-//wp-events-plugin.com//7.2.3.1//EN
TZID:Europe/Paris
X-WR-TIMEZONE:Europe/Paris
BEGIN:VEVENT
UID:1685@cafeculturelcitoyen.org
DTSTART;TZID=Europe/Paris:20220305T203000
DTEND;TZID=Europe/Paris:20220305T223000
DTSTAMP:20220216T151134Z
URL:https://cafeculturelcitoyen.org/evenements/concert-nuncamas-experience
 /
SUMMARY:Concert Nuncamas Experience
DESCRIPTION:La musique de NUNCA MÁS EXPERIENCE est le fruit de la rencont
 re de deux guitaristes\, issus de deux univers musicaux différents aux i
 nfluences contrastées allant du blues-rock\, au flamenco\, en passant pa
 r le jazz jusqu'au classique.
ATTACH;FMTTYPE=image/jpeg:https://cafeculturelcitoyen.org/wp-content/uploa
 ds/2022/02/Sans-titre70.jpg
END:VEVENT
BEGIN:VTIMEZONE
TZID:Europe/Paris
X-LIC-LOCATION:Europe/Paris
BEGIN:STANDARD
DTSTART:20211031T020000
TZOFFSETFROM:+0200
TZOFFSETTO:+0100
TZNAME:CET
END:STANDARD
END:VTIMEZONE
END:VCALENDAR