BEGIN:VCALENDAR
VERSION:2.0
PRODID:-//wp-events-plugin.com//7.2.3.1//EN
TZID:Europe/Paris
X-WR-TIMEZONE:Europe/Paris
BEGIN:VEVENT
UID:1794@cafeculturelcitoyen.org
DTSTART;TZID=Europe/Paris:20220722T210000
DTEND;TZID=Europe/Paris:20220722T223000
DTSTAMP:20220715T081100Z
URL:https://cafeculturelcitoyen.org/evenements/concert-nudo-confuso/
SUMMARY:Concert - Nudo Confuso
DESCRIPTION:Le duo italien NudoConfuso exprime une musique hors du temps et
  des frontières\, intime\, sensuelle\, exposée et vraie.\n\nDonata Lelle
 ri : voix\nStefano Carbone: guitare et voix
ATTACH;FMTTYPE=image/jpeg:https://cafeculturelcitoyen.org/wp-content/uploa
 ds/2022/07/Capture-decran-2022-07-15-101017.png
END:VEVENT
BEGIN:VTIMEZONE
TZID:Europe/Paris
X-LIC-LOCATION:Europe/Paris
BEGIN:DAYLIGHT
DTSTART:20220327T030000
TZOFFSETFROM:+0100
TZOFFSETTO:+0200
TZNAME:CEST
END:DAYLIGHT
END:VTIMEZONE
END:VCALENDAR