BEGIN:VCALENDAR
VERSION:2.0
PRODID:-//wp-events-plugin.com//7.2.3.1//EN
TZID:Europe/Paris
X-WR-TIMEZONE:Europe/Paris
BEGIN:VEVENT
UID:1707@cafeculturelcitoyen.org
DTSTART;TZID=Europe/Paris:20220421T203000
DTEND;TZID=Europe/Paris:20220421T213000
DTSTAMP:20220405T070422Z
URL:https://cafeculturelcitoyen.org/evenements/concert-natasha-bezriche/
SUMMARY:Concert Natasha Bezriche
DESCRIPTION:‘’C’est une fille !’’ Chansons françaises au Fémin
 in Pluriel.\nNatasha Bezriche -chant- / Sébastien Jaudon - piano et arran
 gements-\nCe nouveau spectacle n’est pas uniquement un spectacle de ‘
 ’reprises ‘’\, -vocable qui souvent résonne avec une connotation un
  peu négative-\, car même si ce récital mêle certains titres connus du
  grand public\, il permet aussi de découvrir des chansons restées confid
 entielles et également des textes inédits écrits spécifiquement pour c
 ette création.\n‘’C’est une fille !’’\, contribue à porter ha
 ut et clair\, des chansons investies de textes forts dont la vision socié
 tale\, poétique et musicale\, trouve un écho troublant aujourd’hui en 
 2022. \nhttps://www.youtube.com/watch?v=6SpO_dg9dQ8\n\n&nbsp\;
ATTACH;FMTTYPE=image/jpeg:https://cafeculturelcitoyen.org/wp-content/uploa
 ds/2022/04/Sans-titre31.jpg
END:VEVENT
BEGIN:VTIMEZONE
TZID:Europe/Paris
X-LIC-LOCATION:Europe/Paris
BEGIN:DAYLIGHT
DTSTART:20220327T030000
TZOFFSETFROM:+0100
TZOFFSETTO:+0200
TZNAME:CEST
END:DAYLIGHT
END:VTIMEZONE
END:VCALENDAR