BEGIN:VCALENDAR
VERSION:2.0
PRODID:-//wp-events-plugin.com//7.2.3.1//EN
TZID:Europe/Paris
X-WR-TIMEZONE:Europe/Paris
BEGIN:VEVENT
UID:1787@cafeculturelcitoyen.org
DTSTART;TZID=Europe/Paris:20220712T210000
DTEND;TZID=Europe/Paris:20220712T230000
DTSTAMP:20220715T082019Z
URL:https://cafeculturelcitoyen.org/evenements/concert-musiques-et-transes
 -danatolie/
SUMMARY:Concert - Musiques et transes d'Anatolie
DESCRIPTION:Julie Lobato (chant percussions orientales) et Sarah Procissi (
 luth turc) nous invitent à découvrir et parcourir un répertoire de comp
 ositions et morceaux traditionnels grecs\, turcs\, kurdes. Toutes deux ont
  été formées par les plus grands maîtres\, en Grèce\, Italie\, au Moy
 en-orient... Des tambours qui chantent sous les doigts\, des rythmes terri
 toires avec leur manière particulière de couler. une voix qui danse entr
 e les notes comme le mouvement du danseur entre chaque pas\, et les cordes
  du luth qui résonnent dans le ventre de noyer de Gulhané. Ici les langu
 es sont d'abord poésie\, les chants témoignages d'humanité\, et l'impro
 visation\, une chance de se laisser traverser par la beauté du monde.\n\n
 &nbsp\;
ATTACH;FMTTYPE=image/jpeg:https://cafeculturelcitoyen.org/wp-content/uploa
 ds/2022/07/Capture-decran-2022-07-01-162249.jpg
END:VEVENT
BEGIN:VTIMEZONE
TZID:Europe/Paris
X-LIC-LOCATION:Europe/Paris
BEGIN:DAYLIGHT
DTSTART:20220327T030000
TZOFFSETFROM:+0100
TZOFFSETTO:+0200
TZNAME:CEST
END:DAYLIGHT
END:VTIMEZONE
END:VCALENDAR