BEGIN:VCALENDAR
VERSION:2.0
PRODID:-//wp-events-plugin.com//7.2.3.1//EN
TZID:Europe/Paris
X-WR-TIMEZONE:Europe/Paris
BEGIN:VEVENT
UID:1744@cafeculturelcitoyen.org
DTSTART;TZID=Europe/Paris:20220604T210000
DTEND;TZID=Europe/Paris:20220604T210000
DTSTAMP:20220517T100047Z
URL:https://cafeculturelcitoyen.org/evenements/concert-monsieur-vertigo/
SUMMARY:Concert Monsieur Vertigo
DESCRIPTION:Poésie Électrique\nAuteur\, compositeur\, interprète guitari
 ste marseillais\,\nMonsieur Vertigo distille des poésies mélodiques\,\nc
 hansons folk\, rock\, teintées de blues.\nDepuis 2009\, Monsieur Vertigo 
 compose ses textes en français\nissus de ses pérégrinations nocturnes\,
 \nses déboires amoureux\,\nson regard sur les gens et son ressenti sur la
  vie.\nDes textes poétiques de Charles Bukowski\ns’immiscent avec puiss
 ance et douceur dans son univers musical\,\ninfluencé par The Cure\, Neil
  Young\, Serge Gainsbourg\, Alain Bashung…
ATTACH;FMTTYPE=image/jpeg:https://cafeculturelcitoyen.org/wp-content/uploa
 ds/2022/05/format-wordpress5.jpg
END:VEVENT
BEGIN:VTIMEZONE
TZID:Europe/Paris
X-LIC-LOCATION:Europe/Paris
BEGIN:DAYLIGHT
DTSTART:20220327T030000
TZOFFSETFROM:+0100
TZOFFSETTO:+0200
TZNAME:CEST
END:DAYLIGHT
END:VTIMEZONE
END:VCALENDAR