BEGIN:VCALENDAR
VERSION:2.0
PRODID:-//wp-events-plugin.com//7.2.3.1//EN
TZID:Europe/Paris
X-WR-TIMEZONE:Europe/Paris
BEGIN:VEVENT
UID:1676@cafeculturelcitoyen.org
DTSTART;TZID=Europe/Paris:20220219T203000
DTEND;TZID=Europe/Paris:20220219T203000
DTSTAMP:20220201T093547Z
URL:https://cafeculturelcitoyen.org/evenements/concert-mokuzai-duo/
SUMMARY:Concert Mokuzaï Duo
DESCRIPTION:Notre duo Mokuzaï propose un programme innovant autour du thè
 me du voyage\, mêlant musiques d'Amérique du Sud\, des Caraïbes et d’
 autres régions créoles\, d'Espagne\, d'Europe de l'Est... Au-delà de pi
 èces reconnues\, nous interprétons des morceaux spécialement écrits po
 ur notre formation par des compositeurs actuels\, toujours tournés vers l
 'Ailleurs.\n\nCe répertoire festif\, coloré\, parfois plus intime\, offr
 e au public la possibilité de s’évader vers des horizons variés et en
 soleillés\, ce dont nous avons tant besoin en cette période particulièr
 e.\n\nNombre de nos partitions\, issues de répertoires à danser\, invite
 nt au mouvement et renforcent le dynamisme du concert. Ces thèmes du voya
 ge\, de l'évasion\, du métissage séduisent tous les publics !\n\nMokuza
 ï signifie « bois » en japonais. Il s'agit bien de la matière\, de l'
 élément « bois » qui rassemble à l'origine nos deux instruments. La g
 uitare est en bois\, tout comme l'était la flûte traversière à ses dé
 buts.\n\n&nbsp\;
ATTACH;FMTTYPE=image/jpeg:https://cafeculturelcitoyen.org/wp-content/uploa
 ds/2022/02/Sans-titre88.png
END:VEVENT
BEGIN:VTIMEZONE
TZID:Europe/Paris
X-LIC-LOCATION:Europe/Paris
BEGIN:STANDARD
DTSTART:20211031T020000
TZOFFSETFROM:+0200
TZOFFSETTO:+0100
TZNAME:CET
END:STANDARD
END:VTIMEZONE
END:VCALENDAR