BEGIN:VCALENDAR
VERSION:2.0
PRODID:-//wp-events-plugin.com//7.2.3.1//EN
TZID:Europe/Paris
X-WR-TIMEZONE:Europe/Paris
BEGIN:VEVENT
UID:1651@cafeculturelcitoyen.org
DTSTART;TZID=Europe/Paris:20220423T203000
DTEND;TZID=Europe/Paris:20220423T234500
DTSTAMP:20220422T201825Z
URL:https://cafeculturelcitoyen.org/evenements/concert-medusa-cumbia/
SUMMARY:Concert Médusa Cumbia
DESCRIPTION:Formation de 9 musiciennes chargée d'émotions et de saveurs q
 ui empruntent les rythmes et échos de la cumbia afin de faire danser et v
 ibrer sur les pistes ! \n\nEn écoute ici\n\n&nbsp\;\n\n&nbsp\;
ATTACH;FMTTYPE=image/jpeg:https://cafeculturelcitoyen.org/wp-content/uploa
 ds/2022/01/unnamed1-e1641204964354.jpg
END:VEVENT
BEGIN:VTIMEZONE
TZID:Europe/Paris
X-LIC-LOCATION:Europe/Paris
BEGIN:DAYLIGHT
DTSTART:20220327T030000
TZOFFSETFROM:+0100
TZOFFSETTO:+0200
TZNAME:CEST
END:DAYLIGHT
END:VTIMEZONE
END:VCALENDAR