BEGIN:VCALENDAR
VERSION:2.0
PRODID:-//wp-events-plugin.com//7.2.3.1//EN
TZID:Europe/Paris
X-WR-TIMEZONE:Europe/Paris
BEGIN:VEVENT
UID:1750@cafeculturelcitoyen.org
DTSTART;TZID=Europe/Paris:20220611T210000
DTEND;TZID=Europe/Paris:20220611T230000
DTSTAMP:20220525T153448Z
URL:https://cafeculturelcitoyen.org/evenements/concert-mau-mau-collective-
 2/
SUMMARY:Concert - Mau Mau Collective
DESCRIPTION:\n\n\n\nA l'origine du MAU MAU Collective\, opère MO\, explora
 teur artistique comme il aime à se définir et chanteur multi instrumenti
 ste tres vite rejoint par Fred Laugier (guitare banjo percus voix) \n\nAur
 elien Maurice ( basse voix percus) et Pierrem Chaudagne (batterie voix) \n
 \nLa référence aux musiques caribéennes et plus largement aux musiques 
 noires américaines\, est évidente. Les harmonies vocales\, sensibles et 
 élégantes\, riches en couleurs et les mélodies très attachantes \, nou
 s portent jusqu'aux rivages de Kingston\, Haïti ou la Nelle Orléans.\n\n
 La musique du MAU MAU Collective opère comme une force tranquille\, sexy
  chaleureuse et brillante. \n\nElle est un crossover au sein de la « wor
 ld music » (entre H. Belafonte\, les Neville Brothers ou P.Simon). Elle 
 puise dans l'héritage de « la musique noire » au sens large et crée 
 un pont avec les sonorités pop rock électro d'aujourd'hui.\n\nLes textes
  sont en anglais\, optimistes et conscients\, ils nous invitent au partage
  et à la fête. Résolument positif et plein d'espoir\, le MAU MAU Collec
 tive est une respiration joyeuse et suspendue que l'on arrache aux jours q
 ui filent.\n\n \n\n\n\n
ATTACH;FMTTYPE=image/jpeg:https://cafeculturelcitoyen.org/wp-content/uploa
 ds/2022/05/Capture-decran-2022-05-25-164154.jpg
END:VEVENT
BEGIN:VTIMEZONE
TZID:Europe/Paris
X-LIC-LOCATION:Europe/Paris
BEGIN:DAYLIGHT
DTSTART:20220327T030000
TZOFFSETFROM:+0100
TZOFFSETTO:+0200
TZNAME:CEST
END:DAYLIGHT
END:VTIMEZONE
END:VCALENDAR