BEGIN:VCALENDAR
VERSION:2.0
PRODID:-//wp-events-plugin.com//7.2.3.1//EN
TZID:Europe/Paris
X-WR-TIMEZONE:Europe/Paris
BEGIN:VEVENT
UID:1710@cafeculturelcitoyen.org
DTSTART;TZID=Europe/Paris:20220429T203000
DTEND;TZID=Europe/Paris:20220429T224500
DTSTAMP:20220415T143248Z
URL:https://cafeculturelcitoyen.org/evenements/concert-marie-sigal-chanson
 -poetique-et-intimiste/
SUMMARY:Concert Marie Sigal solo (chanson poétique et intimiste)
DESCRIPTION:Dans ce solo poétique piano-voix\, Marie Sigal nous offre des 
 chansons au charme étrangeet contagieux\, qui revendiquent le goût des m
 ots en décloisonnant les genres. Elle nousembarque entre cimes et abîmes
 \, dans des mélodies vives et entêtantes. Marie Sigalmodèle une musique
  et des textes qui doivent autant à Debussy qu’à Brigitte Fontaine\, e
 npassant par Feu! Chatterton.Un concert excitant et introspectif.www.marie
 sigal.com\n\nhttps://www.youtube.com/watch?v=TfWHddxEQ-4&amp\;feature=emb_
 logo\n\n&nbsp\;
ATTACH;FMTTYPE=image/jpeg:https://cafeculturelcitoyen.org/wp-content/uploa
 ds/2022/04/Sans-titre38.jpg
END:VEVENT
BEGIN:VTIMEZONE
TZID:Europe/Paris
X-LIC-LOCATION:Europe/Paris
BEGIN:DAYLIGHT
DTSTART:20220327T030000
TZOFFSETFROM:+0100
TZOFFSETTO:+0200
TZNAME:CEST
END:DAYLIGHT
END:VTIMEZONE
END:VCALENDAR