BEGIN:VCALENDAR
VERSION:2.0
PRODID:-//wp-events-plugin.com//7.2.3.1//EN
TZID:Europe/Paris
X-WR-TIMEZONE:Europe/Paris
BEGIN:VEVENT
UID:1805@cafeculturelcitoyen.org
DTSTART;TZID=Europe/Paris:20220728T203000
DTEND;TZID=Europe/Paris:20220728T220000
DTSTAMP:20220727T181616Z
URL:https://cafeculturelcitoyen.org/evenements/concert-marianne-masson/
SUMMARY:Chansons en circuit court - Marianne Masson et Rémy Tarrier
DESCRIPTION:Je m'appelle Marianne Masson\, j'aime écrire des poèmes\, sur
 tout\, et des chansons beaucoup ! Petites explorations de l'intime... émo
 tions voyageuses en partage…\n\n"Tout un univers de chansons dont se dé
 gage une poésie toute de simplicité\, de naturel\, de spontanéité qui 
 touche par sa pureté et son humour fréquent\, lequel tente de dissimuler
  un fonds d’inquiétude\, de nostalgie parfois\, de mélancolique tendre
 sse souvent."\n\nEn compagnie de Rémy Tarrier\, nous viendrons vous parta
 ger nos chansons.\n\n"Sous son air de ne pas y toucher\, un poil nonchalan
 t\, ce garçon a bien des choses à raconter. Rémy cultive avec bonheur\,
  tout à la fois l'humour\, l'amour\, la mélancolie\, et réserve quelque
 s coups de griffes  - toujours allègres - à la société de consommatio
 n. Des chansons qui fourmillent de richesse langagière".\n\nIl et elle se
 ront accompagné-es par Patrick Pernet (piano) et Olivier Philippson (acco
 rdéon\, guitare)\n\nVenez nombreux !!\n\n&nbsp\;\n\n&nbsp\;\n\n&nbsp\;
ATTACH;FMTTYPE=image/jpeg:https://cafeculturelcitoyen.org/wp-content/uploa
 ds/2022/07/Capture-decran-2022-07-27-180640.jpg
END:VEVENT
BEGIN:VTIMEZONE
TZID:Europe/Paris
X-LIC-LOCATION:Europe/Paris
BEGIN:DAYLIGHT
DTSTART:20220327T030000
TZOFFSETFROM:+0100
TZOFFSETTO:+0200
TZNAME:CEST
END:DAYLIGHT
END:VTIMEZONE
END:VCALENDAR