BEGIN:VCALENDAR
VERSION:2.0
PRODID:-//wp-events-plugin.com//7.2.3.1//EN
TZID:Europe/Paris
X-WR-TIMEZONE:Europe/Paris
BEGIN:VEVENT
UID:1709@cafeculturelcitoyen.org
DTSTART;TZID=Europe/Paris:20220427T200000
DTEND;TZID=Europe/Paris:20220427T234500
DTSTAMP:20220425T105549Z
URL:https://cafeculturelcitoyen.org/evenements/concert-les-polyphonies-bou
 rlingeuses/
SUMMARY:Concert les polyphonies bourlingeuses
DESCRIPTION:Bourlinguer\, s'aventurer\, déambuler\, découvrir des culture
 s différentes\, les recueillir\, les restituer\, les transformer pour mie
 ux les offrir…\nEnsemble vocal mixte a capella\, basé à Aix en Provenc
 e\, notre répertoire est celui des chants du monde.\nChants populaires tr
 aditionnels dans leur fonction de lien social : chants de travail et de f
 êtes\, chants de révolte et chants d'espérance\, chants d'amour\, chant
 s de tous les moments de la vie\, chants des saisons et des jours...\nJoye
 ux\, voire un peu fantaisistes\, nous cherchons avant tout le plaisir de p
 artager des émotions à travers le chant.
ATTACH;FMTTYPE=image/jpeg:https://cafeculturelcitoyen.org/wp-content/uploa
 ds/2022/04/Sans-titre33.jpg
END:VEVENT
BEGIN:VTIMEZONE
TZID:Europe/Paris
X-LIC-LOCATION:Europe/Paris
BEGIN:DAYLIGHT
DTSTART:20220327T030000
TZOFFSETFROM:+0100
TZOFFSETTO:+0200
TZNAME:CEST
END:DAYLIGHT
END:VTIMEZONE
END:VCALENDAR