BEGIN:VCALENDAR
VERSION:2.0
PRODID:-//wp-events-plugin.com//7.2.3.1//EN
TZID:Europe/Paris
X-WR-TIMEZONE:Europe/Paris
BEGIN:VEVENT
UID:1918@cafeculturelcitoyen.org
DTSTART;TZID=Europe/Paris:20221026T203000
DTEND;TZID=Europe/Paris:20221026T220000
DTSTAMP:20221005T091426Z
URL:https://cafeculturelcitoyen.org/evenements/concert-leonor-bolcatto-cha
 nson-francaise-intimiste-et-feministe/
SUMMARY:Concert - Leonor Bolcatto - Chanson française intimiste et fémini
 ste
DESCRIPTION:\n\n\n\nLeonor Bolcatto\, vous entraîne dans un univers singul
 ier où les chansons ont de grands yeux remplis de malice\, de nostalgie e
 t de révolte. Tantôt conteuse\, tantôt fée ou sorcière\, elle puise s
 on inspiration à cet endroit de l’intime qui fait naître\, grandir\, c
 réer\, s’émanciper\, aimer.\n\n\n\n\n\n\n\n\n"Elle ouvre des fenêtres
  et casse le clichés" Rémy Tarrier\n\n\n"Tout concourt à ce qu'elle soi
 t une belle promesse : une voix douce et mélodieuse\, une diction parfait
 e et cette poésie des choses ordinaires si sincère\, si émouvante" Fran
 cis Panigada sur NosEnchanteurs.\n\n"La voix de Leonor Bolcatto est mélod
 ieuse\, sûre\, sans être insolente. L'écriture des textes est pleine de
  tendresse\, voguant de la nature à la femme\, de la liberté à la recon
 naissance\, sans haine et sans violence" Annie-Claire Hilga pour le n°86 
 du magazine FrancoFans\nhttps://www.leonorbolcatto.com/\n\n\n\n\n\n\n\n
ATTACH;FMTTYPE=image/jpeg:https://cafeculturelcitoyen.org/wp-content/uploa
 ds/2022/10/Capture-decran-2022-10-01-085758.jpg
END:VEVENT
BEGIN:VTIMEZONE
TZID:Europe/Paris
X-LIC-LOCATION:Europe/Paris
BEGIN:DAYLIGHT
DTSTART:20220327T030000
TZOFFSETFROM:+0100
TZOFFSETTO:+0200
TZNAME:CEST
END:DAYLIGHT
END:VTIMEZONE
END:VCALENDAR