BEGIN:VCALENDAR
VERSION:2.0
PRODID:-//wp-events-plugin.com//7.2.3.1//EN
TZID:Europe/Paris
X-WR-TIMEZONE:Europe/Paris
BEGIN:VEVENT
UID:2317@cafeculturelcitoyen.org
DTSTART;TZID=Europe/Paris:20231006T203000
DTEND;TZID=Europe/Paris:20231006T220000
DTSTAMP:20231003T142644Z
URL:https://cafeculturelcitoyen.org/evenements/concert-lekes-trio-rebetiko
 /
SUMMARY:Concert - Lekes\, trio Rebetiko
DESCRIPTION:\n\n\n\n\n\n\n\n\n\n\n\n\n\n\n\n\n\n\nLEKES est un trio de tzou
 ras\, contrebasse\, guitare et voix qui navigue sur les mers du Rébétiko
  et des musiques traditionnelles de Grèce. Une touche de saveurs méditer
 ranéennes!\nUn voyage de vent et de sel.\n\n\nLe groupe:\n\n\n\nAndreas M
 elas: tzouras\, chant\nVanessa Gambini: guitare\, chant\nMikael Leguillou:
  contrebasse\n\n\n\n\n\n\n\nhttps://www.youtube.com/@duolekes\nhttps://www
 .facebook.com/profile.php?id=100083026137715\n\n\n\n\n\n\n\n\n\n\n\n\n\n\n
 \n\n\n\n\n\n\n
ATTACH;FMTTYPE=image/jpeg:https://cafeculturelcitoyen.org/wp-content/uploa
 ds/2023/06/Capture-decran-2023-06-19-105058.png
END:VEVENT
BEGIN:VTIMEZONE
TZID:Europe/Paris
X-LIC-LOCATION:Europe/Paris
BEGIN:DAYLIGHT
DTSTART:20230326T030000
TZOFFSETFROM:+0100
TZOFFSETTO:+0200
TZNAME:CEST
END:DAYLIGHT
END:VTIMEZONE
END:VCALENDAR