BEGIN:VCALENDAR
VERSION:2.0
PRODID:-//wp-events-plugin.com//7.2.3.1//EN
TZID:Europe/Paris
X-WR-TIMEZONE:Europe/Paris
BEGIN:VEVENT
UID:1779@cafeculturelcitoyen.org
DTSTART;TZID=Europe/Paris:20220702T210000
DTEND;TZID=Europe/Paris:20220702T223000
DTSTAMP:20220701T090826Z
URL:https://cafeculturelcitoyen.org/evenements/concert-le-grand-bouzouk/
SUMMARY:Concert - Le Grand Bouzouk
DESCRIPTION:Nous sommes cinq musiciens provenant d'univers très différent
 s et proposant uniquement des compositions ciselées avec un instrumentari
 um venant des quatre coins de la planète : violoncelle\, duduk\, percussi
 ons diverses\, piano\, tablas\, saxophone soprano\, clarinette basse... ch
 acune de nos compos raconte une histoire\, à la manière d'un film\, avec
  un déroulement loin du classique thème/impro/thème du jazz. A découvr
 ir\, notre univers ici : http://www.bouzoukjazz.com/
ATTACH;FMTTYPE=image/jpeg:https://cafeculturelcitoyen.org/wp-content/uploa
 ds/2022/06/Capture-decran-2022-06-21-100716.jpg
END:VEVENT
BEGIN:VTIMEZONE
TZID:Europe/Paris
X-LIC-LOCATION:Europe/Paris
BEGIN:DAYLIGHT
DTSTART:20220327T030000
TZOFFSETFROM:+0100
TZOFFSETTO:+0200
TZNAME:CEST
END:DAYLIGHT
END:VTIMEZONE
END:VCALENDAR