BEGIN:VCALENDAR
VERSION:2.0
PRODID:-//wp-events-plugin.com//7.2.3.1//EN
TZID:Europe/Paris
X-WR-TIMEZONE:Europe/Paris
BEGIN:VEVENT
UID:1702@cafeculturelcitoyen.org
DTSTART;TZID=Europe/Paris:20220414T200000
DTEND;TZID=Europe/Paris:20220414T210000
DTSTAMP:20220401T120712Z
URL:https://cafeculturelcitoyen.org/evenements/concert-le-choeur-ibn-zaydo
 un-2/
SUMMARY:Concert le Choeur Ibn Zaydoun
DESCRIPTION:Le Chœur multiculturel Ibn Zaydoun aborde un répertoire de ch
 ants traditionnels du Moyen-Orient et de poésies arabes anciennes et cont
 emporaines\, sur des compositions originales de Moneim Adwan. Composée d
 ’amateurs d’horizons divers\, la formation chorale est ouverte à tout
 es et tous.\nEn 2012\, le Festival d’Aix-en-Provence invite Moneim Adwan
  et le musicien occitan Miquèu Montanaro pour un programme croisant chant
 s arabo-andalous et chants de troubadours révélant ce que ces deux cultu
 res musicales ont en partage.\nEn 2013\, le Chœur Ibn Zaydoun enregistre 
 un premier album réunissant une sélection de son répertoire\, et se pro
 duit dans le cadre d’Aix en juin lors des Voix de Silvacane à la Roque 
 d’Anthéron.\nEn 2014 avec une première interprétation de la fable ani
 malière La Colombe\, le Renard et le Héron\, forme opératique composée
  par Moneim Adwan et mise en scène par Olivier Letellier\, présentée da
 ns le cadre d’Aix en juin.\nLe Chœur prend part à la production du Mon
 stre du labyrinthe (Jonathan Dove) en 2015 et à Ouverture[s] en 2016.  L
 e Chœur se produit régulièrement à l’occasion d’événements festi
 fs organisés par des associations et des structures culturelles du territ
 oire du pays d’Aix et Marseille.\n En 2018\, le Chœur participe au con
 cert La Nuit d’Antigone\, présenté dans le cadre d’Aix en juin\, et 
 à la première française de l’opéra Orfeo &amp\; Majnun au Festival d
 ’Aix.\nEn 2019\, le Chœur se produit dans le spectacle Passerelles La C
 onférence des Oiseaux dans le cadre d’Aix en juin.
ATTACH;FMTTYPE=image/jpeg:https://cafeculturelcitoyen.org/wp-content/uploa
 ds/2022/03/Sans-titre82.jpg
END:VEVENT
BEGIN:VTIMEZONE
TZID:Europe/Paris
X-LIC-LOCATION:Europe/Paris
BEGIN:DAYLIGHT
DTSTART:20220327T030000
TZOFFSETFROM:+0100
TZOFFSETTO:+0200
TZNAME:CEST
END:DAYLIGHT
END:VTIMEZONE
END:VCALENDAR