BEGIN:VCALENDAR
VERSION:2.0
PRODID:-//wp-events-plugin.com//7.2.3.1//EN
TZID:Europe/Paris
X-WR-TIMEZONE:Europe/Paris
BEGIN:VEVENT
UID:1735@cafeculturelcitoyen.org
DTSTART;TZID=Europe/Paris:20220527T210000
DTEND;TZID=Europe/Paris:20220527T234500
DTSTAMP:20220511T085950Z
URL:https://cafeculturelcitoyen.org/evenements/concert-kijote-2/
SUMMARY:Concert Kijoté
DESCRIPTION:Paroles et Musique Damien Ruiz\, alias Kijote. Extrait de l’a
 lbum « Ombre et lumière » 2021\, à paraître.\n\nAprès deux albums 
 en 2015 et en 2018\, « Les perdants magnifiques »\, Kijoté prépare s
 on prochain album de huit titres pour novembre 2021. Il vient de nous dév
 oiler en session acoustique la chanson titre\, Ombre et lumière\, qui don
 ne l’atmosphère de l’album. Si l’on retrouve une musique swing mano
 uche\, l’artiste s’est particulièrement attaché aux textes qui expri
 ment nos contradictions et nos nuances\, et aux mélodies\, avec le superb
 e soutien du violoncelle. Plus mélancolique malgré l’accent ensoleill
 é\, on y trouve de soudaines accélérations\, des instants de folie et d
 es accès de douceur. Brune est de la même veine\, sensible et lyrique. O
 n peut aussi écouter en audio Volupté  et Emma et moi\, sur un rythme t
 otalement hispanique\, qui vont réchauffer vos soirées d’été.
ATTACH;FMTTYPE=image/jpeg:https://cafeculturelcitoyen.org/wp-content/uploa
 ds/2022/05/format-wordpress.jpg
END:VEVENT
BEGIN:VTIMEZONE
TZID:Europe/Paris
X-LIC-LOCATION:Europe/Paris
BEGIN:DAYLIGHT
DTSTART:20220327T030000
TZOFFSETFROM:+0100
TZOFFSETTO:+0200
TZNAME:CEST
END:DAYLIGHT
END:VTIMEZONE
END:VCALENDAR