BEGIN:VCALENDAR
VERSION:2.0
PRODID:-//wp-events-plugin.com//7.2.3.1//EN
TZID:Europe/Paris
X-WR-TIMEZONE:Europe/Paris
BEGIN:VEVENT
UID:1731@cafeculturelcitoyen.org
DTSTART;TZID=Europe/Paris:20220521T210000
DTEND;TZID=Europe/Paris:20220521T234500
DTSTAMP:20220510T103518Z
URL:https://cafeculturelcitoyen.org/evenements/concert-jamin/
SUMMARY:Concert JaMin
DESCRIPTION:Artiste solo\, varois\, mandoliniste\, auteur\, compositeur\, i
 l reprend\, remixe\, avec un petit goût de Massilia Sound System.... et p
 our cause : il accompagne Gari Grèu (Massilia\, Oaistar\, Collectif 13) d
 ans ses projets solos depuis 4 ans\, qui en échange a produit son premier
  EP ( juin 2019) intitulé « Si t’as rien ».\n« Le son que je produi
 s en solo n’est pas de ceux qu’on écoute assis … ceux qui me voient
  jouer me disent que je fais une chanson-dancefloor. Le mot me plait bien.
  En tout cas\, il y a de l’électro. Et puis ma mandoline est électriqu
 e. Elle sonne forcément très rock. Et moi j’adore avoir du flow alors 
 ça donne un côté reggae/ragga aussi. Et j’adore écrire en français 
 ça met de la chanson dans mes titres. »\nPréparez-vous donc à danser 
 sur des sons nouveaux avec Jamin !
ATTACH;FMTTYPE=image/jpeg:https://cafeculturelcitoyen.org/wp-content/uploa
 ds/2022/05/jamin-2.jpg
END:VEVENT
BEGIN:VTIMEZONE
TZID:Europe/Paris
X-LIC-LOCATION:Europe/Paris
BEGIN:DAYLIGHT
DTSTART:20220327T030000
TZOFFSETFROM:+0100
TZOFFSETTO:+0200
TZNAME:CEST
END:DAYLIGHT
END:VTIMEZONE
END:VCALENDAR