BEGIN:VCALENDAR
VERSION:2.0
PRODID:-//wp-events-plugin.com//7.2.3.1//EN
TZID:Europe/Paris
X-WR-TIMEZONE:Europe/Paris
BEGIN:VEVENT
UID:1786@cafeculturelcitoyen.org
DTSTART;TZID=Europe/Paris:20220708T210000
DTEND;TZID=Europe/Paris:20220708T223000
DTSTAMP:20220701T092233Z
URL:https://cafeculturelcitoyen.org/evenements/concert-hind-soiree-orienta
 le/
SUMMARY:Concert - Hind\, Soirée orientale
DESCRIPTION:\n\nHIND est née au Maroc et vit désormais à Aix depuis le n
 ouveau siècle…\nA la fois discrète\, passionnée\, pugnace\, enthousia
 ste… riche de son multiculturalisme… de son vagabondage intellectuel
 … fidèle à ses racines\, ouverte sur le métissage des genres et des m
 usiques… C’est une chanteuse rare\, connue et reconnue par ceux et cel
 les qui savent entendre la vérité intime d’une voix et l’ardeur de c
 elle qui la porte. Une voix ample qui vous emporte loin… entre tradition
  et modernité. « On est de son enfance\, comme on est d’un pays »… 
 écrivait Antoine de St Exupéry… Hind aime le rappeler! L’héritage r
 eçu est bien sûr celui des divas de la chanson « arabe » – Oum Kalso
 um\, Fairouz\, Asmahan… Sources inépuisables\, Hind y puise une forme d
 e virtuosité sentimentale et dramatique. De la même manière qu’elle a
 vait su le faire avec son vibrant Hommage à PIAF… dont beaucoup se souv
 iennent encore. Le chant de Hind « nous laissera un goût des autres à p
 artager et à repartager chaque fois que possible »\n
ATTACH;FMTTYPE=image/jpeg:https://cafeculturelcitoyen.org/wp-content/uploa
 ds/2022/07/Capture-decran-2022-07-01-111806.jpg
END:VEVENT
BEGIN:VTIMEZONE
TZID:Europe/Paris
X-LIC-LOCATION:Europe/Paris
BEGIN:DAYLIGHT
DTSTART:20220327T030000
TZOFFSETFROM:+0100
TZOFFSETTO:+0200
TZNAME:CEST
END:DAYLIGHT
END:VTIMEZONE
END:VCALENDAR