BEGIN:VCALENDAR
VERSION:2.0
PRODID:-//wp-events-plugin.com//7.2.3.1//EN
TZID:Europe/Paris
X-WR-TIMEZONE:Europe/Paris
BEGIN:VEVENT
UID:1720@cafeculturelcitoyen.org
DTSTART;TZID=Europe/Paris:20220514T210000
DTEND;TZID=Europe/Paris:20220514T234500
DTSTAMP:20220425T110320Z
URL:https://cafeculturelcitoyen.org/evenements/concert-hamun-trio/
SUMMARY:Concert Hāmun Trio
DESCRIPTION:Philippe Gillet\, musicien et ethnomusicologue\, sillonne depui
 s de nombreuses années les Balkans\, l’Anatolie et le Moyen-Orient à l
 a recherche de nouveaux répertoires.\n\nAu fur et à mesure des rencontre
 s\, des tsiganes de Roumanie aux derviches du Caire en passant par les al
 évis de l’est Anatoliens\, plusieurs centaines de pièces se sont entas
 sés dans des enregistreurs numériques.\n\nAvec son projet “Hāmun”\,
  il tente de revisiter en trio tout ce répertoire et la "eastern music" a
 u sens large à la lumière du Jazz et de l'improvisation.\n\nHāmun\, la 
 rivière en Persan\, car “la musique est une rivière qui nous traverse
 ”.\n\nPhilippe Gillet / Oud\, tanbur\, buzuk\nDavid Cassini / Contrebass
 e\nNello Cornabe / Batterie\n\nPour plus d'infos \n\n
ATTACH;FMTTYPE=image/jpeg:https://cafeculturelcitoyen.org/wp-content/uploa
 ds/2022/04/Sans-titre46.jpg
END:VEVENT
BEGIN:VTIMEZONE
TZID:Europe/Paris
X-LIC-LOCATION:Europe/Paris
BEGIN:DAYLIGHT
DTSTART:20220327T030000
TZOFFSETFROM:+0100
TZOFFSETTO:+0200
TZNAME:CEST
END:DAYLIGHT
END:VTIMEZONE
END:VCALENDAR