BEGIN:VCALENDAR
VERSION:2.0
PRODID:-//wp-events-plugin.com//7.2.3.1//EN
TZID:Europe/Paris
X-WR-TIMEZONE:Europe/Paris
BEGIN:VEVENT
UID:1806@cafeculturelcitoyen.org
DTSTART;TZID=Europe/Paris:20220730T210000
DTEND;TZID=Europe/Paris:20220730T230000
DTSTAMP:20220730T064109Z
URL:https://cafeculturelcitoyen.org/evenements/concert-gonza/
SUMMARY:Concert - Gonza
DESCRIPTION:Originaire d’Amérique du Sud et récemment installé à Mars
 eille\, Gonza nous apporte une poignée de chansons rock • folk • grun
 ge • reggae de différentes périodes et quelques créations à lui.\nUn
 e soirée dans le style des series Unplugged de MTV.\nPour ce dernier conc
 ert  de l'été venez nombreux et nombreuses !!
ATTACH;FMTTYPE=image/jpeg:https://cafeculturelcitoyen.org/wp-content/uploa
 ds/2022/07/Capture-decran-2022-07-30-083842.png
END:VEVENT
BEGIN:VTIMEZONE
TZID:Europe/Paris
X-LIC-LOCATION:Europe/Paris
BEGIN:DAYLIGHT
DTSTART:20220327T030000
TZOFFSETFROM:+0100
TZOFFSETTO:+0200
TZNAME:CEST
END:DAYLIGHT
END:VTIMEZONE
END:VCALENDAR