BEGIN:VCALENDAR
VERSION:2.0
PRODID:-//wp-events-plugin.com//7.2.3.1//EN
TZID:Europe/Paris
X-WR-TIMEZONE:Europe/Paris
BEGIN:VEVENT
UID:1936@cafeculturelcitoyen.org
DTSTART;TZID=Europe/Paris:20221116T200000
DTEND;TZID=Europe/Paris:20221116T220000
DTSTAMP:20221107T190918Z
URL:https://cafeculturelcitoyen.org/evenements/concert-francois-buffaud/
SUMMARY:Concert - François Buffaud
DESCRIPTION:Jazze-t-il la chanson ou enchante-t-il le jazz ? François Buff
 aud est un artiste accompli\, perfectionniste dans son art (écriture et j
 eu guitare)\, dont la voix grave et chaleureuse nous embarque dans un univ
 ers musical intimiste et poétique. Sur l’ensemble du répertoire\, on r
 etrouve une grande partie de sa personnalité où dominent sensibilité\, 
 humour et tendresse…\n\nAccompagné de Sébastien Debard (piano et accor
 déon) et Philippe Parant (guitare)\, ce Trio saura séduire un large publ
 ic ! \n\nD'ores et déjà\, vous pouvez découvrir l'univers musical et le
 s chansons de François Buffaud via les liens ci-dessous.\n\nYouTube\n\n\n
 Site internet de François Buffaud
ATTACH;FMTTYPE=image/jpeg:https://cafeculturelcitoyen.org/wp-content/uploa
 ds/2022/10/Capture-decran-2022-11-07-200806.jpg
END:VEVENT
BEGIN:VTIMEZONE
TZID:Europe/Paris
X-LIC-LOCATION:Europe/Paris
BEGIN:STANDARD
DTSTART:20221030T020000
TZOFFSETFROM:+0200
TZOFFSETTO:+0100
TZNAME:CET
END:STANDARD
END:VTIMEZONE
END:VCALENDAR