BEGIN:VCALENDAR
VERSION:2.0
PRODID:-//wp-events-plugin.com//7.2.3.1//EN
TZID:Europe/Paris
X-WR-TIMEZONE:Europe/Paris
BEGIN:VEVENT
UID:1698@cafeculturelcitoyen.org
DTSTART;TZID=Europe/Paris:20220402T203000
DTEND;TZID=Europe/Paris:20220402T213000
DTSTAMP:20220317T150112Z
URL:https://cafeculturelcitoyen.org/evenements/concert-flora-hol/
SUMMARY:Concert Flora Hol
DESCRIPTION:De la chanson actuelle. Une voix cristalline\, un piano\, une\n
 guitare et une loop. Un univers doux-amer\, joyeux\,\nmélancolique\, inti
 miste\, une balade rythmée et poétique.\nUn concert hors du temps où le
  tempo s’amuse\, les refrains se\nchantent tous ensemble et la stripsody
  s’invite sur scène. Un\nspectacle où le public participe à l’expé
 rience musicale. Tel le\nsémaphore\, le voyage se passe au bord du littor
 al et des\nsignaux permettent de communiquer avec les navires\, le\npublic
 .\nhttps://www.youtube.com/watch?time_continue=4&amp\;v=tnDZDFWBLrQ
ATTACH;FMTTYPE=image/jpeg:https://cafeculturelcitoyen.org/wp-content/uploa
 ds/2022/03/Sans-titre79.jpg
END:VEVENT
BEGIN:VTIMEZONE
TZID:Europe/Paris
X-LIC-LOCATION:Europe/Paris
BEGIN:DAYLIGHT
DTSTART:20220327T030000
TZOFFSETFROM:+0100
TZOFFSETTO:+0200
TZNAME:CEST
END:DAYLIGHT
END:VTIMEZONE
END:VCALENDAR