BEGIN:VCALENDAR
VERSION:2.0
PRODID:-//wp-events-plugin.com//7.2.3.1//EN
TZID:Europe/Paris
X-WR-TIMEZONE:Europe/Paris
BEGIN:VEVENT
UID:1708@cafeculturelcitoyen.org
DTSTART;TZID=Europe/Paris:20220422T203000
DTEND;TZID=Europe/Paris:20220422T234500
DTSTAMP:20220422T201648Z
URL:https://cafeculturelcitoyen.org/evenements/concert-fabyog/
SUMMARY:Concert Fabyog
DESCRIPTION:Avec FabYog\, on s'arrête\, on écoute mais de quoi parle tell
 e ?\nElle vous parle d'elle et de nous ! De ce que chacun vit\, d'une mèr
 e\, d'un soleil levant\, de la paresse d'un jour de pluie\, du feu qui s'
 éteint à l’intérieur... Au détour d'un titre\, l’anglicisme s'invi
 te et attise notre curiosité. Elle joue avec les mots\, les mots soignent
  les maux\, les mots font l'émotion. Elle brille\, elle se donne à chaqu
 e refrain scandé comme un slogan et rythmé aux gimmicks de sa guitare. L
 e blues rock\, les rythmiques funky et les mélodies entêtantes font l'un
 ivers de FabYog .\n\nhttps://www.youtube.com/watch?v=Tl6_WTDREeM&amp\;list
 =PLT8NhgnXGUsE0M9sN_X701kAXCSZBclhe&amp\;index=1\n\n&nbsp\;
ATTACH;FMTTYPE=image/jpeg:https://cafeculturelcitoyen.org/wp-content/uploa
 ds/2022/04/Sans-titre88.jpg
END:VEVENT
BEGIN:VTIMEZONE
TZID:Europe/Paris
X-LIC-LOCATION:Europe/Paris
BEGIN:DAYLIGHT
DTSTART:20220327T030000
TZOFFSETFROM:+0100
TZOFFSETTO:+0200
TZNAME:CEST
END:DAYLIGHT
END:VTIMEZONE
END:VCALENDAR