BEGIN:VCALENDAR
VERSION:2.0
PRODID:-//wp-events-plugin.com//7.2.3.1//EN
TZID:Europe/Paris
X-WR-TIMEZONE:Europe/Paris
BEGIN:VEVENT
UID:1716@cafeculturelcitoyen.org
DTSTART;TZID=Europe/Paris:20220512T203000
DTEND;TZID=Europe/Paris:20220512T224500
DTSTAMP:20220425T092219Z
URL:https://cafeculturelcitoyen.org/evenements/concert-fabien-brassac/
SUMMARY:Concert Fabien Brassac
DESCRIPTION:Fabien Brassac\, guitariste/chanteur\, reprend de grands standa
 rds de la chanson française réarrangés jazz \, en passant par Salvador\
 , Brassens\, Le Forestier…et biensur Nougaro. Mais aussi des standards d
 e variétés internationales dans des styles très variés :  pop\, funk
 \, soul\, blues et latino \; de Sting à Daftpunk \,en passant par Jain e
 t Buena Vista Social Club.\nLe tout en laissant une vaste place aux solos 
 improvisés.
ATTACH;FMTTYPE=image/jpeg:https://cafeculturelcitoyen.org/wp-content/uploa
 ds/2022/04/Sans-titre44.jpg
END:VEVENT
BEGIN:VTIMEZONE
TZID:Europe/Paris
X-LIC-LOCATION:Europe/Paris
BEGIN:DAYLIGHT
DTSTART:20220327T030000
TZOFFSETFROM:+0100
TZOFFSETTO:+0200
TZNAME:CEST
END:DAYLIGHT
END:VTIMEZONE
END:VCALENDAR