BEGIN:VCALENDAR
VERSION:2.0
PRODID:-//wp-events-plugin.com//7.2.3.1//EN
TZID:Europe/Paris
X-WR-TIMEZONE:Europe/Paris
BEGIN:VEVENT
UID:2316@cafeculturelcitoyen.org
DTSTART;TZID=Europe/Paris:20230707T203000
DTEND;TZID=Europe/Paris:20230707T220000
DTSTAMP:20230619T091120Z
URL:https://cafeculturelcitoyen.org/evenements/concert-el-revire-duo-argen
 tin/
SUMMARY:Concert - El Revire\, duo argentin
DESCRIPTION:Né-es en Argentine\, dans la province de Buenos Aires\, Sabrin
 a et  Walter nous offrent une proposition musicale argentine à la recher
 che d'une sonorité propre dans un esprit de fraîcheur et de rénovation.
  Leur répertoire intègre des oeuvres de compositeurs de référence\, fo
 ndements du tango et du folklore argentin\,tels que  Gardel-Le Pera\, Tro
 ilo-Manzi\, Cobián- Cadicamo\, Atahualpa Yupanqui\, Cuchi Leguizamón\, e
 ntre autres. \n\nVitalité\, émotion et énergie\, ce concert fourmille d
 e propositions musicales du répertore argentin - tango\, candombe\, milon
 ga... - associées à un ensemble instrumental original : Sabrina Destefan
 is à la basse\, tambour argentin (bombo legüero) et voix\, etWalter Ratt
 o guitare et voix\n\n\n&nbsp\;\n\nWEBSITE
ATTACH;FMTTYPE=image/jpeg:https://cafeculturelcitoyen.org/wp-content/uploa
 ds/2023/06/Capture-decran-2023-06-19-093920.jpeg
END:VEVENT
BEGIN:VTIMEZONE
TZID:Europe/Paris
X-LIC-LOCATION:Europe/Paris
BEGIN:DAYLIGHT
DTSTART:20230326T030000
TZOFFSETFROM:+0100
TZOFFSETTO:+0200
TZNAME:CEST
END:DAYLIGHT
END:VTIMEZONE
END:VCALENDAR