BEGIN:VCALENDAR
VERSION:2.0
PRODID:-//wp-events-plugin.com//7.2.3.1//EN
TZID:Europe/Paris
X-WR-TIMEZONE:Europe/Paris
BEGIN:VEVENT
UID:1734@cafeculturelcitoyen.org
DTSTART;TZID=Europe/Paris:20220526T203000
DTEND;TZID=Europe/Paris:20220526T234500
DTSTAMP:20220526T173252Z
URL:https://cafeculturelcitoyen.org/evenements/concert-duo-so-watt/
SUMMARY:Concert Duo So Watt
DESCRIPTION:So Watt\, groupe musical professionnel originaire d’Amiens re
 visite les grands standards du jazz vocal et de la soul music (Ella Fitzge
 rald\, Etta James\, Aretha Franklin)\, avec quelques incursions dans la po
 p et la chanson française (David Bowie\, Elton John\, Boris Vian\, Serge 
 Gainsbourg).\nhttps://www.youtube.com/watch?v=-Waa5sJmky0&amp\;feature=emb
 _logo\n\n&nbsp\;
ATTACH;FMTTYPE=image/jpeg:https://cafeculturelcitoyen.org/wp-content/uploa
 ds/2022/05/sowhatt-2.jpg
END:VEVENT
BEGIN:VTIMEZONE
TZID:Europe/Paris
X-LIC-LOCATION:Europe/Paris
BEGIN:DAYLIGHT
DTSTART:20220327T030000
TZOFFSETFROM:+0100
TZOFFSETTO:+0200
TZNAME:CEST
END:DAYLIGHT
END:VTIMEZONE
END:VCALENDAR