BEGIN:VCALENDAR
VERSION:2.0
PRODID:-//wp-events-plugin.com//7.2.3.1//EN
TZID:Europe/Paris
X-WR-TIMEZONE:Europe/Paris
BEGIN:VEVENT
UID:1789@cafeculturelcitoyen.org
DTSTART;TZID=Europe/Paris:20220715T203000
DTEND;TZID=Europe/Paris:20220715T223000
DTSTAMP:20220702T075603Z
URL:https://cafeculturelcitoyen.org/evenements/concert-duo-rindineddha/
SUMMARY:Concert - Duo Rindineddha
DESCRIPTION:"En "griko"\, langue gréco-italienne\, Rindineddha désigne l
 ’hirondelle. Par le chant\, elle fait vivre les répertoires de celles e
 t ceux qui ont lutté\, travaillé\, célébré\, souffert\, aimé\, pour 
 ne pas les laisser disparaître. En prenant l'allure d’une oratrice\, el
 le donne du sens à ces chants pour les oreilles d'aujourd'hui. Panaderas 
 de Castille\, polyphonies catalanes\, occitanes\, tarentelle sicilienne...
  des trésors de mémoires vivantes que nous avons plaisir à partager.\n\
 nAdeline Guéret - chant\, tamburellu\, pandereta\, pandero cuadrado\, tam
 bour à cordes\n\nDavid Denis - chant\, tamburellu\, pandeiro\, guitare\, 
 fifre\n\nPour les découvrir
ATTACH;FMTTYPE=image/jpeg:https://cafeculturelcitoyen.org/wp-content/uploa
 ds/2022/07/Capture-decran-2022-07-01-173441.jpg
END:VEVENT
BEGIN:VTIMEZONE
TZID:Europe/Paris
X-LIC-LOCATION:Europe/Paris
BEGIN:DAYLIGHT
DTSTART:20220327T030000
TZOFFSETFROM:+0100
TZOFFSETTO:+0200
TZNAME:CEST
END:DAYLIGHT
END:VTIMEZONE
END:VCALENDAR