BEGIN:VCALENDAR
VERSION:2.0
PRODID:-//wp-events-plugin.com//7.2.3.1//EN
TZID:Europe/Paris
X-WR-TIMEZONE:Europe/Paris
BEGIN:VEVENT
UID:1722@cafeculturelcitoyen.org
DTSTART;TZID=Europe/Paris:20220514T200000
DTEND;TZID=Europe/Paris:20220514T210000
DTSTAMP:20220425T201459Z
URL:https://cafeculturelcitoyen.org/evenements/concert-duo-de-luths/
SUMMARY:Concert Duo SoLuthé
DESCRIPTION:Le Duo SoLuthé est le résultat de la rencontre d’Emma et d
 ’Elisabeth\, deux luthistes étudiant aux conservatoires de Toulon et d
 ’Aix\, avec la musique ancienne. Ces deux musiciennes partagent leur pas
 sion pour cette musique en proposant un voyage dans l’Europe des XVIe et
  XVIIe siècle\, âge d’or du luth\, avec des pièces de Dowland\, Dalza
 \, Ford\, Da Milano\, Encina...Elles proposent ainsi un répertoire varié
 \, constitué de musique pour luth en solo ou en duo\, issue de chansons\,
  de danses\, et d’improvisations de la Renaissance.\n&nbsp\;
ATTACH;FMTTYPE=image/jpeg:https://cafeculturelcitoyen.org/wp-content/uploa
 ds/2022/04/Sans-titre49.jpg
END:VEVENT
BEGIN:VTIMEZONE
TZID:Europe/Paris
X-LIC-LOCATION:Europe/Paris
BEGIN:DAYLIGHT
DTSTART:20220327T030000
TZOFFSETFROM:+0100
TZOFFSETTO:+0200
TZNAME:CEST
END:DAYLIGHT
END:VTIMEZONE
END:VCALENDAR