BEGIN:VCALENDAR
VERSION:2.0
PRODID:-//wp-events-plugin.com//7.2.3.1//EN
TZID:Europe/Paris
X-WR-TIMEZONE:Europe/Paris
BEGIN:VEVENT
UID:2237@cafeculturelcitoyen.org
DTSTART;TZID=Europe/Paris:20230331T203000
DTEND;TZID=Europe/Paris:20230331T220000
DTSTAMP:20230319T111944Z
URL:https://cafeculturelcitoyen.org/evenements/concert-dexception-luna-her
 nandez-chanteuse-colombienne/
SUMMARY:Concert d'exception - Luna Hernandez\, chanteuse colombienne
DESCRIPTION:Récompensée par de nombreux prix musicaux\, mais aussi de pri
 x pour des projets sociaux internationaux et d'Amérique latine\, Luna Her
 nandez est une artiste d'exception que nous avons beaucoup de chance de re
 cevoir au 3C.\n\nSa musique est ancrée dans la tradition colombienne\, ma
 is traite des sujets les plus actuels. Très engagée dans la cause fémin
 iniste\, Luna Hernandez met son talent à dénoncer les féminicides au Me
 xique\, soutenir les mères et adolescent-es isolé-es en Colombie et aill
 eurs\, ou encore illustrer par la musique un documentaire écologique...\n
 \nSi le 3C est bourré à craquer pour l'accueillir\, nous pousserons les 
 murs !\n\nhttps://www.youtube.com/watch?v=4npgCMR5Vj0\n\n&nbsp\;\n\nhttps:
 //www.youtube.com/watch?v=nA92s-oPyZQ
ATTACH;FMTTYPE=image/jpeg:https://cafeculturelcitoyen.org/wp-content/uploa
 ds/2023/03/Capture-decran-2023-03-19-120050.png
END:VEVENT
BEGIN:VTIMEZONE
TZID:Europe/Paris
X-LIC-LOCATION:Europe/Paris
BEGIN:DAYLIGHT
DTSTART:20230326T030000
TZOFFSETFROM:+0100
TZOFFSETTO:+0200
TZNAME:CEST
END:DAYLIGHT
END:VTIMEZONE
END:VCALENDAR